BEGIN:VCALENDAR
VERSION:2.0
PRODID:-//ZContent.net//ZapCalLib 1.0//EN
CALSCALE:GREGORIAN
METHOD:PUBLISH
BEGIN:VEVENT
SUMMARY:Autokorrektur: Für eine gerechte Verkehrswende | Digitale Diskussi
 on mit der Mobilitätsexpertin Katja Diehl
DTSTART:20220503T180000
DTEND:20220503T193000
UID:2026-04-26-04-41-27-0-@calendar.boell.de
DTSTAMP:20260426T024127
DESCRIPTION:▶ Siehe Veranstaltungsbeschreibung – Düsseldorf – Landes
 stiftung Nordrhein-Westfalen
END:VEVENT
END:VCALENDAR
