BEGIN:VCALENDAR
VERSION:2.0
PRODID:-//ZContent.net//ZapCalLib 1.0//EN
CALSCALE:GREGORIAN
METHOD:PUBLISH
BEGIN:VEVENT
SUMMARY: Hamburg und die „Staatsverträge“ (I) - Eine historische Herle
 itung  | Aus der Reihe: 10 Jahre „Staatsverträge“ zwischen der Stadt 
 Hamburg und den islamischen Gemeinden sowie der alevitischen Gemeinde 
DTSTART:20220531T180000
DTEND:20220531T193000
UID:2026-04-24-16-35-07-0-@calendar.boell.de
DTSTAMP:20260424T143507
DESCRIPTION:▶ Siehe Veranstaltungsbeschreibung – Hamburg – Landesstif
 tung Hamburg
END:VEVENT
END:VCALENDAR
