BEGIN:VCALENDAR
VERSION:2.0
PRODID:-//ZContent.net//ZapCalLib 1.0//EN
CALSCALE:GREGORIAN
METHOD:PUBLISH
BEGIN:VEVENT
SUMMARY:AG Plurale Ökonomik: Doughnut Economy und Gemeinwohl-Ökonomie | Z
 oom-Veranstaltung
DTSTART:20220428T180000
DTEND:20220428T200000
UID:2026-04-26-04-41-02-0-@calendar.boell.de
DTSTAMP:20260426T024102
DESCRIPTION:▶ Siehe Veranstaltungsbeschreibung – Düsseldorf – Landes
 stiftung Nordrhein-Westfalen
END:VEVENT
END:VCALENDAR
