BEGIN:VCALENDAR
VERSION:2.0
PRODID:-//ZContent.net//ZapCalLib 1.0//EN
CALSCALE:GREGORIAN
METHOD:PUBLISH
BEGIN:VEVENT
SUMMARY:Bis wir tot sind oder frei | Filmpreview und Gespräch
DTSTART:20220331T190000
DTEND:20220331T220000
UID:2026-04-25-02-12-51-0-@calendar.boell.de
DTSTAMP:20260425T001251
DESCRIPTION:▶ Siehe Veranstaltungsbeschreibung – Münster – Landessti
 ftung Nordrhein-Westfalen
END:VEVENT
END:VCALENDAR
