BEGIN:VCALENDAR
VERSION:2.0
PRODID:-//ZContent.net//ZapCalLib 1.0//EN
CALSCALE:GREGORIAN
METHOD:PUBLISH
BEGIN:VEVENT
SUMMARY:Istanbul - eine Stadt im Aufbruch!? (ausgebucht) | Eine Begegnungsr
 eise zu den  Umwelt-, Frauen- und Menschenrechtsbewegungen in der Türkei
DTSTART:20220917T100000
DTEND:20220925T180000
UID:2026-04-25-12-34-46-0-@calendar.boell.de
DTSTAMP:20260425T103446
DESCRIPTION:▶ Siehe Veranstaltungsbeschreibung – Landesstiftung Berlin 
 (Bildungswerk)
END:VEVENT
END:VCALENDAR
