BEGIN:VCALENDAR
VERSION:2.0
PRODID:-//ZContent.net//ZapCalLib 1.0//EN
CALSCALE:GREGORIAN
METHOD:PUBLISH
BEGIN:VEVENT
SUMMARY:Palästina und die Palästinenser | Eine Geschichte von der Nakba b
 is zur Gegenwart
DTSTART:20220428T190000
DTEND:20220428T203000
UID:2026-04-25-17-49-28-0-@calendar.boell.de
DTSTAMP:20260425T154928
DESCRIPTION:▶ Siehe Veranstaltungsbeschreibung – München – Petra-Kel
 ly-Stiftung
END:VEVENT
END:VCALENDAR
