BEGIN:VCALENDAR
VERSION:2.0
PRODID:-//ZContent.net//ZapCalLib 1.0//EN
CALSCALE:GREGORIAN
METHOD:PUBLISH
BEGIN:VEVENT
SUMMARY:Bürger*innen für die Wärmewende  | Community-Klönschnack bewirk
DTSTART:20220406T190000
DTEND:20220406T203000
UID:2026-04-24-15-08-03-0-@calendar.boell.de
DTSTAMP:20260424T130803
DESCRIPTION:▶ Online-Veranstaltung – 
END:VEVENT
END:VCALENDAR
