BEGIN:VCALENDAR
VERSION:2.0
PRODID:-//ZContent.net//ZapCalLib 1.0//EN
CALSCALE:GREGORIAN
METHOD:PUBLISH
BEGIN:VEVENT
SUMMARY:Grüne Lunge in Not | Wald zwischen Klimakrise und Forstwirtschaft
DTSTART:20220613T200000
DTEND:20220613T220000
UID:2026-04-24-05-17-09-0-@calendar.boell.de
DTSTAMP:20260424T031709
DESCRIPTION:▶ Siehe Veranstaltungsbeschreibung – Hannover – Stiftung 
 Leben & Umwelt / Heinrich-Böll-Stiftung Niedersachsen
END:VEVENT
END:VCALENDAR
