BEGIN:VCALENDAR
VERSION:2.0
PRODID:-//ZContent.net//ZapCalLib 1.0//EN
CALSCALE:GREGORIAN
METHOD:PUBLISH
BEGIN:VEVENT
SUMMARY:"Was ist.... links?" | Politische Sommerbildung
DTSTART:20210709T170000
DTEND:20210713T150000
UID:2026-04-26-04-41-02-0-@calendar.boell.de
DTSTAMP:20260426T024102
DESCRIPTION:▶ Siehe Veranstaltungsbeschreibung – 
END:VEVENT
END:VCALENDAR
