BEGIN:VCALENDAR
VERSION:2.0
PRODID:-//ZContent.net//ZapCalLib 1.0//EN
CALSCALE:GREGORIAN
METHOD:PUBLISH
BEGIN:VEVENT
SUMMARY:Krieg in Europa - Zur aktuellen Situation in der Ukraine | Livestre
 am
DTSTART:20220316T180000
DTEND:20220316T190000
UID:2026-04-24-14-24-46-0-@calendar.boell.de
DTSTAMP:20260424T122446
DESCRIPTION:▶ Online-Veranstaltung – Landesstiftung Sachsen-Anhalt
END:VEVENT
END:VCALENDAR
