BEGIN:VCALENDAR
VERSION:2.0
PRODID:-//ZContent.net//ZapCalLib 1.0//EN
CALSCALE:GREGORIAN
METHOD:PUBLISH
BEGIN:VEVENT
SUMMARY:Toxic Business | Ein Dokumentarfilm über die Profite international
 er Chemiekonzerne in Afrika auf Kosten der Gesundheit von Kleinbäuer*inne
 n und Konsument*innen von Katja Becker und Jonathan Happ
DTSTART:20220711T183000
DTEND:20220711T210000
UID:2026-04-26-04-41-29-0-@calendar.boell.de
DTSTAMP:20260426T024129
DESCRIPTION:▶ Siehe Veranstaltungsbeschreibung – Oldenburg – Stiftung
  Leben & Umwelt / Heinrich-Böll-Stiftung Niedersachsen
END:VEVENT
END:VCALENDAR
