BEGIN:VCALENDAR
VERSION:2.0
PRODID:-//ZContent.net//ZapCalLib 1.0//EN
CALSCALE:GREGORIAN
METHOD:PUBLISH
BEGIN:VEVENT
SUMMARY:Bikes vs. Cars | Ein Dokumentarfilm von Fredrik Gertten
DTSTART:20220411T183000
DTEND:20220411T210000
UID:2026-04-24-00-34-48-0-@calendar.boell.de
DTSTAMP:20260423T223448
DESCRIPTION:▶ Siehe Veranstaltungsbeschreibung – Oldenburg – Externe 
 Veranstaltung
END:VEVENT
END:VCALENDAR
