BEGIN:VCALENDAR
VERSION:2.0
PRODID:-//ZContent.net//ZapCalLib 1.0//EN
CALSCALE:GREGORIAN
METHOD:PUBLISH
BEGIN:VEVENT
SUMMARY:Unser Boden, unser Erbe  | Ein Dokumentarfilm von Marc Uhlig
DTSTART:20220314T183000
DTEND:20220314T210000
UID:2026-04-24-12-27-12-0-@calendar.boell.de
DTSTAMP:20260424T102712
DESCRIPTION:▶ Siehe Veranstaltungsbeschreibung – Oldenburg – Externe 
 Veranstaltung
END:VEVENT
END:VCALENDAR
