BEGIN:VCALENDAR
VERSION:2.0
PRODID:-//ZContent.net//ZapCalLib 1.0//EN
CALSCALE:GREGORIAN
METHOD:PUBLISH
BEGIN:VEVENT
SUMMARY:Der zweite Anschlag / The second attack / İkinci Saldırı | Rassi
 stische Gewalt in Deutschland. Eine Anklage der Betroffenen. [de/tr]
DTSTART:20220322T183000
DTEND:20220322T203000
UID:2026-04-25-12-34-55-0-@calendar.boell.de
DTSTAMP:20260425T103455
DESCRIPTION:▶ Siehe Veranstaltungsbeschreibung – Halle (Saale) – Land
 esstiftung Sachsen-Anhalt
END:VEVENT
END:VCALENDAR
