BEGIN:VCALENDAR
VERSION:2.0
PRODID:-//ZContent.net//ZapCalLib 1.0//EN
CALSCALE:GREGORIAN
METHOD:PUBLISH
BEGIN:VEVENT
SUMMARY:Ausverkauft! Böll-Montagskino: „Die Unbeugsamen“
DTSTART:20220328T190000
DTEND:20220328T210000
UID:2026-04-24-10-44-16-0-@calendar.boell.de
DTSTAMP:20260424T084416
DESCRIPTION:▶ Siehe Veranstaltungsbeschreibung – Rostock – Landesstif
 tung Mecklenburg-Vorpommern
END:VEVENT
END:VCALENDAR
