BEGIN:VCALENDAR
VERSION:2.0
PRODID:-//ZContent.net//ZapCalLib 1.0//EN
CALSCALE:GREGORIAN
METHOD:PUBLISH
BEGIN:VEVENT
SUMMARY:Afghanistan, Hazara und Frauenrechte | Ein Gespräch mit Aktivistin
 nen
DTSTART:20220316T190000
DTEND:20220316T203000
UID:2026-04-24-17-29-28-0-@calendar.boell.de
DTSTAMP:20260424T152928
DESCRIPTION:▶ Siehe Veranstaltungsbeschreibung – Berlin – Landesstift
 ung Berlin (Bildungswerk)
END:VEVENT
END:VCALENDAR
