BEGIN:VCALENDAR
VERSION:2.0
PRODID:-//ZContent.net//ZapCalLib 1.0//EN
CALSCALE:GREGORIAN
METHOD:PUBLISH
BEGIN:VEVENT
SUMMARY:Rechte, Ressourcen, Repräsentanz: Feministische Außenpolitik 
DTSTART:20220310T160000
DTEND:20220310T170000
UID:2026-04-24-00-35-23-0-@calendar.boell.de
DTSTAMP:20260423T223523
DESCRIPTION:▶ Online-Veranstaltung – Petra-Kelly-Stiftung
END:VEVENT
END:VCALENDAR
