BEGIN:VCALENDAR
VERSION:2.0
PRODID:-//ZContent.net//ZapCalLib 1.0//EN
CALSCALE:GREGORIAN
METHOD:PUBLISH
BEGIN:VEVENT
SUMMARY:Sprech- & Redetraining für Augsburger Aktivist*innen
DTSTART:20220210T180000
DTEND:20220210T213000
UID:2026-04-23-22-29-21-0-@calendar.boell.de
DTSTAMP:20260423T202921
DESCRIPTION:▶ Siehe Veranstaltungsbeschreibung – Augsburg – Petra-Kel
 ly-Stiftung
END:VEVENT
END:VCALENDAR
