BEGIN:VCALENDAR
VERSION:2.0
PRODID:-//ZContent.net//ZapCalLib 1.0//EN
CALSCALE:GREGORIAN
METHOD:PUBLISH
BEGIN:VEVENT
SUMMARY:Freisetzung der Kräfte
DTSTART:20220301T170000
DTEND:20220301T190000
UID:2026-04-26-04-41-05-0-@calendar.boell.de
DTSTAMP:20260426T024105
DESCRIPTION:▶ Online-Veranstaltung – Heinrich-Böll-Stiftung - Bundesst
 iftung Berlin
END:VEVENT
END:VCALENDAR
