BEGIN:VCALENDAR
VERSION:2.0
PRODID:-//ZContent.net//ZapCalLib 1.0//EN
CALSCALE:GREGORIAN
METHOD:PUBLISH
BEGIN:VEVENT
SUMMARY:AUFHORCHEN! „Widerstand der Worte“ | Feature von Lars Meyer
DTSTART:20220221T190000
DTEND:20220221T210000
UID:2026-04-23-17-21-12-0-@calendar.boell.de
DTSTAMP:20260423T152112
DESCRIPTION:Halle (Saale) – Landesstiftung Sachsen-Anhalt
END:VEVENT
END:VCALENDAR
