BEGIN:VCALENDAR
VERSION:2.0
PRODID:-//ZContent.net//ZapCalLib 1.0//EN
CALSCALE:GREGORIAN
METHOD:PUBLISH
BEGIN:VEVENT
SUMMARY:"Aktionswochen Saatgut teilen" | 1. bis 21. März 2022 in Mecklenbu
 rg-Vorpommern
DTSTART:20220301T100000
DTEND:20220321T180000
UID:2026-04-25-02-37-12-0-@calendar.boell.de
DTSTAMP:20260425T003712
DESCRIPTION:▶ Siehe Veranstaltungsbeschreibung – Landesstiftung Mecklen
 burg-Vorpommern
END:VEVENT
END:VCALENDAR
