BEGIN:VCALENDAR
VERSION:2.0
PRODID:-//ZContent.net//ZapCalLib 1.0//EN
CALSCALE:GREGORIAN
METHOD:PUBLISH
BEGIN:VEVENT
SUMMARY:Auf den Punkt gebracht - Warteliste | Effektive Pressearbeit für F
 ortgeschrittene 
DTSTART:20220212T100000
DTEND:20220212T170000
UID:2026-04-25-04-08-46-0-@calendar.boell.de
DTSTAMP:20260425T020846
DESCRIPTION:▶ Online-Veranstaltung – Heinrich Böll Stiftung Baden-Wür
 ttemberg
END:VEVENT
END:VCALENDAR
