BEGIN:VCALENDAR
VERSION:2.0
PRODID:-//ZContent.net//ZapCalLib 1.0//EN
CALSCALE:GREGORIAN
METHOD:PUBLISH
BEGIN:VEVENT
SUMMARY:Alles Spinner oder was?  | Wie Sie mit Verschwörungsgläubigen ge
 lassener umgehen
DTSTART:20220316T170000
DTEND:20220316T183000
UID:2026-04-24-18-07-48-0-@calendar.boell.de
DTSTAMP:20260424T160748
DESCRIPTION:▶ Siehe Veranstaltungsbeschreibung – Heinrich Böll Stiftun
 g Baden-Württemberg
END:VEVENT
END:VCALENDAR
