BEGIN:VCALENDAR
VERSION:2.0
PRODID:-//ZContent.net//ZapCalLib 1.0//EN
CALSCALE:GREGORIAN
METHOD:PUBLISH
BEGIN:VEVENT
SUMMARY:Der Mann, der seine Haut verkaufte | Filmvorführung mit anschließ
 ender Diskussion
DTSTART:20220221T193000
DTEND:20220221T214500
UID:2026-04-23-04-48-55-0-@calendar.boell.de
DTSTAMP:20260423T024855
DESCRIPTION:Heinrich-Böll-Stiftung Hamburg – Hamburg – Landesstiftung 
 Hamburg
END:VEVENT
END:VCALENDAR
