BEGIN:VCALENDAR
VERSION:2.0
PRODID:-//ZContent.net//ZapCalLib 1.0//EN
CALSCALE:GREGORIAN
METHOD:PUBLISH
BEGIN:VEVENT
SUMMARY:Die politische Wirkung großer Prozesse am Beispiel Nürnberg und N
 SU (ausgebucht) | Gespräch mit Ronen Steinke über die Nürnberger Prozes
 se - Geschichte und Aktualität internationaler Strafgerichtsbarkeit
DTSTART:20220330T190000
DTEND:20220330T210000
UID:2026-04-23-18-32-24-0-@calendar.boell.de
DTSTAMP:20260423T163224
DESCRIPTION:▶ Siehe Veranstaltungsbeschreibung – Landesstiftung Bremen
END:VEVENT
END:VCALENDAR
