BEGIN:VCALENDAR
VERSION:2.0
PRODID:-//ZContent.net//ZapCalLib 1.0//EN
CALSCALE:GREGORIAN
METHOD:PUBLISH
BEGIN:VEVENT
SUMMARY:Die Pandemie und globale Demokratie 
DTSTART:20220210T100000
DTEND:20220211T173000
UID:2026-04-23-06-12-49-0-@calendar.boell.de
DTSTAMP:20260423T041249
DESCRIPTION:▶ Online-Veranstaltung – Heinrich-Böll-Stiftung - Bundesst
 iftung Berlin
END:VEVENT
BEGIN:VEVENT
SUMMARY:Die Pandemie und globale Demokratie 
DTSTART:20220210T100000
DTEND:20220210T123000
UID:2026-04-23-04-12-49-1-@calendar.boell.de
DTSTAMP:20260423T041249
DESCRIPTION:▶ Online-Veranstaltung – Heinrich-Böll-Stiftung - Bundesst
 iftung Berlin
END:VEVENT
BEGIN:VEVENT
SUMMARY:Die Pandemie und globale Demokratie 
DTSTART:20220210T160000
DTEND:20220210T173000
UID:2026-04-23-04-12-49-2-@calendar.boell.de
DTSTAMP:20260423T041249
DESCRIPTION:▶ Online-Veranstaltung – Heinrich-Böll-Stiftung - Bundesst
 iftung Berlin
END:VEVENT
BEGIN:VEVENT
SUMMARY:Die Pandemie und globale Demokratie 
DTSTART:20220211T100000
DTEND:20220211T113000
UID:2026-04-23-04-12-49-3-@calendar.boell.de
DTSTAMP:20260423T041249
DESCRIPTION:▶ Online-Veranstaltung – Heinrich-Böll-Stiftung - Bundesst
 iftung Berlin
END:VEVENT
BEGIN:VEVENT
SUMMARY:Die Pandemie und globale Demokratie 
DTSTART:20220211T160000
DTEND:20220211T173000
UID:2026-04-23-04-12-49-4-@calendar.boell.de
DTSTAMP:20260423T041249
DESCRIPTION:▶ Online-Veranstaltung – Heinrich-Böll-Stiftung - Bundesst
 iftung Berlin
END:VEVENT
END:VCALENDAR
