BEGIN:VCALENDAR
VERSION:2.0
PRODID:-//ZContent.net//ZapCalLib 1.0//EN
CALSCALE:GREGORIAN
METHOD:PUBLISH
BEGIN:VEVENT
SUMMARY:5. Salon des guten Lebens | Charles Landry: „Kreatives Potential 
 des Wandels“
DTSTART:20220309T193000
DTEND:20220309T210000
UID:2026-04-23-08-38-11-0-@calendar.boell.de
DTSTAMP:20260423T063811
DESCRIPTION:▶ Siehe Veranstaltungsbeschreibung – Landesstiftung Schlesw
 ig-Holstein
END:VEVENT
END:VCALENDAR
