BEGIN:VCALENDAR
VERSION:2.0
PRODID:-//ZContent.net//ZapCalLib 1.0//EN
CALSCALE:GREGORIAN
METHOD:PUBLISH
BEGIN:VEVENT
SUMMARY:Haltung zeigen! Argumentieren gegen antifeministische Äußerungen
DTSTART:20220211T100000
DTEND:20220212T150000
UID:2026-04-24-22-18-15-0-@calendar.boell.de
DTSTAMP:20260424T201815
DESCRIPTION:▶ Siehe Veranstaltungsbeschreibung – Landesstiftung Berlin 
 (Bildungswerk)
END:VEVENT
END:VCALENDAR
