BEGIN:VCALENDAR
VERSION:2.0
PRODID:-//ZContent.net//ZapCalLib 1.0//EN
CALSCALE:GREGORIAN
METHOD:PUBLISH
BEGIN:VEVENT
SUMMARY:Politische Bildung trifft Digitalisierung - Haltung Zeigen virtuell
  und in der realen Welt (abgesagt) | Fit for Politics - Online-Seminar mit
  Serpil Mağlıҫoğlu
DTSTART:20220304T170000
DTEND:20220305T130000
UID:2026-04-23-08-38-25-0-@calendar.boell.de
DTSTAMP:20260423T063825
DESCRIPTION:▶ Online-Veranstaltung – Hannover – Stiftung Leben & Umwe
 lt / Heinrich-Böll-Stiftung Niedersachsen
END:VEVENT
END:VCALENDAR
