BEGIN:VCALENDAR
VERSION:2.0
PRODID:-//ZContent.net//ZapCalLib 1.0//EN
CALSCALE:GREGORIAN
METHOD:PUBLISH
BEGIN:VEVENT
SUMMARY: Powersharing | Handlungsstrategie für zivilgesellschaftliche Init
 iativen
DTSTART:20220301T100000
DTEND:20220301T160000
UID:2026-04-23-17-20-39-0-@calendar.boell.de
DTSTAMP:20260423T152039
DESCRIPTION:Heinrich-Böll-Stiftung Hamburg – Hamburg – Landesstiftung 
 Hamburg
END:VEVENT
END:VCALENDAR
