BEGIN:VCALENDAR
VERSION:2.0
PRODID:-//ZContent.net//ZapCalLib 1.0//EN
CALSCALE:GREGORIAN
METHOD:PUBLISH
BEGIN:VEVENT
SUMMARY:Sicher auftreten und frei reden  | Fit-for-Politics-Seminar mit Mon
 a Heilek
DTSTART:20220903T160000
DTEND:20220904T100000
UID:2026-04-25-16-18-12-0-@calendar.boell.de
DTSTAMP:20260425T141812
DESCRIPTION:▶ Siehe Veranstaltungsbeschreibung – Hannover – Stiftung 
 Leben & Umwelt / Heinrich-Böll-Stiftung Niedersachsen
END:VEVENT
END:VCALENDAR
