BEGIN:VCALENDAR
VERSION:2.0
PRODID:-//ZContent.net//ZapCalLib 1.0//EN
CALSCALE:GREGORIAN
METHOD:PUBLISH
BEGIN:VEVENT
SUMMARY:[ausgebucht] Virtuelle Sitzungen und Diskussionen erfolgreich leite
 n | Fit-for-Politics-Online-Seminar mit Silke Inselmann
DTSTART:20221104T160000
DTEND:20221105T100000
UID:2026-04-25-04-59-12-0-@calendar.boell.de
DTSTAMP:20260425T025912
DESCRIPTION:▶ Online-Veranstaltung – Hannover – Stiftung Leben & Umwe
 lt / Heinrich-Böll-Stiftung Niedersachsen
END:VEVENT
END:VCALENDAR
