BEGIN:VCALENDAR
VERSION:2.0
PRODID:-//ZContent.net//ZapCalLib 1.0//EN
CALSCALE:GREGORIAN
METHOD:PUBLISH
BEGIN:VEVENT
SUMMARY:TEILWEISE AUSGEBUCHT Wien / Österreich | Gutes Leben, trotz allem?
DTSTART:20230507T090000
DTEND:20230512T170000
UID:2026-04-24-16-49-02-0-@calendar.boell.de
DTSTAMP:20260424T144902
DESCRIPTION:Heinrich-Böll-Stiftung Hamburg – Wien – Landesstiftung Ham
 burg
END:VEVENT
END:VCALENDAR
