BEGIN:VCALENDAR
VERSION:2.0
PRODID:-//ZContent.net//ZapCalLib 1.0//EN
CALSCALE:GREGORIAN
METHOD:PUBLISH
BEGIN:VEVENT
SUMMARY:MutterTochter – Biographie-Workshop für Frauen*
DTSTART:20220408T180000
DTEND:20220410T163000
UID:2026-04-25-23-41-58-0-@calendar.boell.de
DTSTAMP:20260425T214158
DESCRIPTION:▶ Siehe Veranstaltungsbeschreibung – Landesstiftung Berlin 
 (Bildungswerk)
END:VEVENT
END:VCALENDAR
