BEGIN:VCALENDAR
VERSION:2.0
PRODID:-//ZContent.net//ZapCalLib 1.0//EN
CALSCALE:GREGORIAN
METHOD:PUBLISH
BEGIN:VEVENT
SUMMARY:Let us talk, ladiez* - Rhetoriktraining von und für Frauen*
DTSTART:20220207T180000
DTEND:20220228T200000
UID:2026-04-26-04-41-08-0-@calendar.boell.de
DTSTAMP:20260426T024108
DESCRIPTION:▶ Siehe Veranstaltungsbeschreibung – Landesstiftung Berlin 
 (Bildungswerk)
END:VEVENT
END:VCALENDAR
