BEGIN:VCALENDAR
VERSION:2.0
PRODID:-//ZContent.net//ZapCalLib 1.0//EN
CALSCALE:GREGORIAN
METHOD:PUBLISH
BEGIN:VEVENT
SUMMARY:ABGESAGT! Social Media Workshop | Chancen und Herausforderungen dig
 italer politischer Kommunikation
DTSTART:20220521T100000
DTEND:20220521T173000
UID:2026-04-24-00-54-23-0-@calendar.boell.de
DTSTAMP:20260423T225423
DESCRIPTION:▶ Siehe Veranstaltungsbeschreibung – Nürnberg – Petra-Ke
 lly-Stiftung
END:VEVENT
END:VCALENDAR
