BEGIN:VCALENDAR
VERSION:2.0
PRODID:-//ZContent.net//ZapCalLib 1.0//EN
CALSCALE:GREGORIAN
METHOD:PUBLISH
BEGIN:VEVENT
SUMMARY:Online-Seminar: Lass mich durch deine Brille sehen | Interkulturell
 e Sensibilisierung
DTSTART:20220311T160000
DTEND:20220312T123000
UID:2026-04-24-14-16-12-0-@calendar.boell.de
DTSTAMP:20260424T121612
DESCRIPTION:▶ Online-Veranstaltung – Landesstiftung Sachsen-Anhalt
END:VEVENT
END:VCALENDAR
