BEGIN:VCALENDAR
VERSION:2.0
PRODID:-//ZContent.net//ZapCalLib 1.0//EN
CALSCALE:GREGORIAN
METHOD:PUBLISH
BEGIN:VEVENT
SUMMARY:Schlaglicht: Wie verhalte ich mich souverän vor der Kamera? | Rich
 tig vorbereitet zum Videointerview.
DTSTART:20220407T140000
DTEND:20220407T173000
UID:2026-04-23-08-38-04-0-@calendar.boell.de
DTSTAMP:20260423T063804
DESCRIPTION:▶ Siehe Veranstaltungsbeschreibung – Düsseldorf – Landes
 stiftung Nordrhein-Westfalen
END:VEVENT
END:VCALENDAR
