BEGIN:VCALENDAR
VERSION:2.0
PRODID:-//ZContent.net//ZapCalLib 1.0//EN
CALSCALE:GREGORIAN
METHOD:PUBLISH
BEGIN:VEVENT
SUMMARY:Schlaglicht: Wie nehme ich gute Videos mit meinem Smartphone auf? |
  Schlaglicht: Videos erstellen und bearbeiten.
DTSTART:20220308T140000
DTEND:20220308T173000
UID:2026-04-26-04-41-28-0-@calendar.boell.de
DTSTAMP:20260426T024128
DESCRIPTION:▶ Siehe Veranstaltungsbeschreibung – Landesstiftung Nordrhe
 in-Westfalen
END:VEVENT
END:VCALENDAR
