BEGIN:VCALENDAR
VERSION:2.0
PRODID:-//ZContent.net//ZapCalLib 1.0//EN
CALSCALE:GREGORIAN
METHOD:PUBLISH
BEGIN:VEVENT
SUMMARY:Bilder im Kontext - Arbeit mit Fotografie in der Bildungsarbeit | M
 ultiplikator*innenworkshop
DTSTART:20220226T113000
DTEND:20220227T160000
UID:2026-04-25-04-08-41-0-@calendar.boell.de
DTSTAMP:20260425T020841
DESCRIPTION:▶ Siehe Veranstaltungsbeschreibung – Berlin – Landesstift
 ung Berlin (Bildungswerk)
END:VEVENT
END:VCALENDAR
