BEGIN:VCALENDAR
VERSION:2.0
PRODID:-//ZContent.net//ZapCalLib 1.0//EN
CALSCALE:GREGORIAN
METHOD:PUBLISH
BEGIN:VEVENT
SUMMARY:Schlaglicht: Warum bin ich eigentlich gestresst? | Mit Stress richt
 ig umgehen.
DTSTART:20220401T150000
DTEND:20220401T183000
UID:2026-04-24-20-56-17-0-@calendar.boell.de
DTSTAMP:20260424T185617
DESCRIPTION:▶ Siehe Veranstaltungsbeschreibung – Düsseldorf – Landes
 stiftung Nordrhein-Westfalen
END:VEVENT
END:VCALENDAR
