BEGIN:VCALENDAR
VERSION:2.0
PRODID:-//ZContent.net//ZapCalLib 1.0//EN
CALSCALE:GREGORIAN
METHOD:PUBLISH
BEGIN:VEVENT
SUMMARY:Schlaglicht: Wie präsentiere ich mein Anliegen erfolgreich? | Bots
 chaften durch Sprachbilder vermitteln.
DTSTART:20220317T090000
DTEND:20220317T130000
UID:2026-04-23-20-59-50-0-@calendar.boell.de
DTSTAMP:20260423T185950
DESCRIPTION:▶ Siehe Veranstaltungsbeschreibung – Düsseldorf – Landes
 stiftung Nordrhein-Westfalen
END:VEVENT
END:VCALENDAR
