BEGIN:VCALENDAR
VERSION:2.0
PRODID:-//ZContent.net//ZapCalLib 1.0//EN
CALSCALE:GREGORIAN
METHOD:PUBLISH
BEGIN:VEVENT
SUMMARY:AUSGEBUCHT: Schlaglicht: Was ist meine zentrale Botschaft? (ausgebu
 cht/Warteliste) | In zwei Sätzen überzeugen.
DTSTART:20220115T183000
DTEND:20220115T220000
UID:2026-04-23-19-14-08-0-@calendar.boell.de
DTSTAMP:20260423T171408
DESCRIPTION:▶ Siehe Veranstaltungsbeschreibung – Landesstiftung Nordrhe
 in-Westfalen
END:VEVENT
END:VCALENDAR
