BEGIN:VCALENDAR
VERSION:2.0
PRODID:-//ZContent.net//ZapCalLib 1.0//EN
CALSCALE:GREGORIAN
METHOD:PUBLISH
BEGIN:VEVENT
SUMMARY:Digitale Ernährungswende in Europa
DTSTART:20211213T180000
DTEND:20211213T193000
UID:2026-04-24-01-22-57-0-@calendar.boell.de
DTSTAMP:20260423T232257
DESCRIPTION:▶ Online-Veranstaltung – Heinrich-Böll-Stiftung - Bundesst
 iftung Berlin
END:VEVENT
END:VCALENDAR
