BEGIN:VCALENDAR
VERSION:2.0
PRODID:-//ZContent.net//ZapCalLib 1.0//EN
CALSCALE:GREGORIAN
METHOD:PUBLISH
BEGIN:VEVENT
SUMMARY:Humanity Empowered: Building Resilience with AI | Aspen Berlin Konf
 erenz über Künstliche Intelligenz
DTSTART:20211201T133000
DTEND:20211202T183000
UID:2026-04-24-01-25-16-0-@calendar.boell.de
DTSTAMP:20260423T232516
DESCRIPTION:▶ Siehe Veranstaltungsbeschreibung – Berlin – Externe Ver
 anstaltung
END:VEVENT
BEGIN:VEVENT
SUMMARY:Humanity Empowered: Building Resilience with AI | Aspen Berlin Konf
 erenz über Künstliche Intelligenz
DTSTART:20211201T123000
DTEND:20211201T183000
UID:2026-04-23-23-25-16-1-@calendar.boell.de
DTSTAMP:20260423T232516
DESCRIPTION:▶ Siehe Veranstaltungsbeschreibung – Berlin – Externe Ver
 anstaltung
END:VEVENT
BEGIN:VEVENT
SUMMARY:Humanity Empowered: Building Resilience with AI | Aspen Berlin Konf
 erenz über Künstliche Intelligenz
DTSTART:20211202T093000
DTEND:20211202T183000
UID:2026-04-23-23-25-16-2-@calendar.boell.de
DTSTAMP:20260423T232516
DESCRIPTION:▶ Siehe Veranstaltungsbeschreibung – Berlin – Externe Ver
 anstaltung
END:VEVENT
END:VCALENDAR
