BEGIN:VCALENDAR
VERSION:2.0
PRODID:-//ZContent.net//ZapCalLib 1.0//EN
CALSCALE:GREGORIAN
METHOD:PUBLISH
BEGIN:VEVENT
SUMMARY:AG Wirtschaft anders denken  - Einführung in die plurale Ökonomik
  | Digitaler Start der Veranstaltungsreihe
DTSTART:20211206T180000
DTEND:20211206T200000
UID:2026-04-24-21-48-15-0-@calendar.boell.de
DTSTAMP:20260424T194815
DESCRIPTION:▶ Siehe Veranstaltungsbeschreibung – Landesstiftung Nordrhe
 in-Westfalen
END:VEVENT
END:VCALENDAR
