BEGIN:VCALENDAR
VERSION:2.0
PRODID:-//ZContent.net//ZapCalLib 1.0//EN
CALSCALE:GREGORIAN
METHOD:PUBLISH
BEGIN:VEVENT
SUMMARY:Das Teufelsmoor - Biodiversitäts-Hotspot und Kohlenstoffspeicher (
 Warteliste) | Seminar und Radexkursion
DTSTART:20220620T080000
DTEND:20220624T180000
UID:2026-04-24-01-22-52-0-@calendar.boell.de
DTSTAMP:20260423T232252
DESCRIPTION:▶ Siehe Veranstaltungsbeschreibung – Bremen – Landesstift
 ung Bremen
END:VEVENT
END:VCALENDAR
