BEGIN:VCALENDAR
VERSION:2.0
PRODID:-//ZContent.net//ZapCalLib 1.0//EN
CALSCALE:GREGORIAN
METHOD:PUBLISH
BEGIN:VEVENT
SUMMARY:Stadt, Land, Wald - Vom Zustand der Thüringer Wälder | 
DTSTART:20211202T200000
DTEND:20211202T213000
UID:2021-12-02-03-48-12-0-@calendar.boell.de
DTSTAMP:20211202T024812
DESCRIPTION:▶ Siehe Veranstaltungsbeschreibung – Erfurt – Landesstift
 ung Thüringen
END:VEVENT
END:VCALENDAR
