BEGIN:VCALENDAR
VERSION:2.0
PRODID:-//ZContent.net//ZapCalLib 1.0//EN
CALSCALE:GREGORIAN
METHOD:PUBLISH
BEGIN:VEVENT
SUMMARY:Weggesperrt - Warum Gefängnisse niemandem nützen | Buchvorstellun
 g mit Thomas Galli und anschließendem Gespräch
DTSTART:20220407T190000
DTEND:20220407T203000
UID:2026-04-23-08-38-16-0-@calendar.boell.de
DTSTAMP:20260423T063816
DESCRIPTION:▶ Siehe Veranstaltungsbeschreibung – Halle (Saale) – Land
 esstiftung Sachsen-Anhalt
END:VEVENT
END:VCALENDAR
