BEGIN:VCALENDAR
VERSION:2.0
PRODID:-//ZContent.net//ZapCalLib 1.0//EN
CALSCALE:GREGORIAN
METHOD:PUBLISH
BEGIN:VEVENT
SUMMARY:Stadt neu denken | der 38. Grüner Salon Bielefeld beleuchtet femin
 istische Interventionen und Klimaanpassung für den Bielefelder Osten
DTSTART:20211128T110000
DTEND:20211128T133000
UID:2026-04-23-02-30-33-0-@calendar.boell.de
DTSTAMP:20260423T003033
DESCRIPTION:▶ Siehe Veranstaltungsbeschreibung – Bielefeld – Landesst
 iftung Nordrhein-Westfalen
END:VEVENT
END:VCALENDAR
